BEGIN:VCALENDAR
VERSION:2.0
PRODID:-//Unsereins Seminarhotel - ECPv6.15.20//NONSGML v1.0//EN
CALSCALE:GREGORIAN
METHOD:PUBLISH
X-WR-CALNAME:Unsereins Seminarhotel
X-ORIGINAL-URL:https://unsereins-hotel.de
X-WR-CALDESC:Veranstaltungen für Unsereins Seminarhotel
REFRESH-INTERVAL;VALUE=DURATION:PT1H
X-Robots-Tag:noindex
X-PUBLISHED-TTL:PT1H
BEGIN:VTIMEZONE
TZID:Europe/Berlin
BEGIN:DAYLIGHT
TZOFFSETFROM:+0100
TZOFFSETTO:+0200
TZNAME:CEST
DTSTART:20240331T010000
END:DAYLIGHT
BEGIN:STANDARD
TZOFFSETFROM:+0200
TZOFFSETTO:+0100
TZNAME:CET
DTSTART:20241027T010000
END:STANDARD
BEGIN:DAYLIGHT
TZOFFSETFROM:+0100
TZOFFSETTO:+0200
TZNAME:CEST
DTSTART:20250330T010000
END:DAYLIGHT
BEGIN:STANDARD
TZOFFSETFROM:+0200
TZOFFSETTO:+0100
TZNAME:CET
DTSTART:20251026T010000
END:STANDARD
BEGIN:DAYLIGHT
TZOFFSETFROM:+0100
TZOFFSETTO:+0200
TZNAME:CEST
DTSTART:20260329T010000
END:DAYLIGHT
BEGIN:STANDARD
TZOFFSETFROM:+0200
TZOFFSETTO:+0100
TZNAME:CET
DTSTART:20261025T010000
END:STANDARD
BEGIN:DAYLIGHT
TZOFFSETFROM:+0100
TZOFFSETTO:+0200
TZNAME:CEST
DTSTART:20270328T010000
END:DAYLIGHT
BEGIN:STANDARD
TZOFFSETFROM:+0200
TZOFFSETTO:+0100
TZNAME:CET
DTSTART:20271031T010000
END:STANDARD
END:VTIMEZONE
BEGIN:VEVENT
DTSTART;VALUE=DATE:20251101
DTEND;VALUE=DATE:20260501
DTSTAMP:20260421T170954
CREATED:20241109T212700Z
LAST-MODIFIED:20251023T132551Z
UID:10000030-1761955200-1777593599@unsereins-hotel.de
SUMMARY:# Winter Wellness Erlebnis - Zwei Tage Wärme und Entspannung pur
DESCRIPTION:Zwei Tage Wärme und Entspannung pur buchbar vom 01.11.25 bis 30.04.26 \nDie Tage werden kürzer\, der Alltag fordert dich\, und die Sehnsucht nach Erholung wird größer? \nUnser Winter Wellness Erlebnis ist genau das Richtige für dich\, um der Kälte und Hektik des Winters zu entfliehen und neue Kraft zu tanken. \nFreu dich auf zwei Übernachtungen mit vitalem\, vegetarischem Frühstück und einem entspannten Tag in der Therme Bad Steben. \nIn der behaglichen Wärme vergisst du die Kälte draußen schnell und kannst dich ganz auf dein Wohlbefinden konzentrieren. Ob in der Saunalandschaft\, im Wellness-Dome oder in den Wasserwelten – es ist deine Zeit\, um loszulassen\, zu entspannen und deine Sinne zu verwöhnen. \nHier direkt zur Buchung \nDein Winter Wellness Erlebnis auf einen Blick:\n\nZwei Übernachtungen in einem gemütlichen Zimmer\, das dir Ruhe und Erholung schenkt\nGesundes\, vegetarisches Frühstück – vitalisierend und nährend für einen gelungenen Start in den Tag\nEin Tag in der Therme Bad Steben mit Zugang zu den vielseitigen Wohlfühl-Bereichen: Thermalbecken\, Saunen und Wasserwelten\, die Körper und Geist zur Ruhe bringen\nMeditation im Raum der Stille – ein Rückzugsort für tiefe Entspannung und innere Einkehr\nOptionale Behandlungen wie Faszien-Therapie oder therapeutische Energieanwendungen\, die bei uns im Haus dazu buchbar sind\nErholung in der Natur bei ausgiebigen Winterspaziergängen durch die idyllische Umgebung\n\n  \nEin Blick in die Therme Bad Steben\nIn der Therme Bad Steben erwarten dich über 8.500 Quadratmeter voller Entspannung. \nDie weitläufige Saunalandschaft und die warmen Lichter schaffen gerade im Winter eine besonders gemütliche Atmosphäre. Die Kombination aus traditionellen Blockhäusern und modernen Pavillons verleiht den Innen- und Außenbereichen eine einzigartige Harmonie. \nDer Naturteich ist im Winter eine erfrischende Herausforderung und bietet das perfekte Wechselbad-Erlebnis\, um Kreislauf und Immunsystem zu stärken. \nDie Badehalle mit gläserner Fassade bietet dir einen fantastischen Blick auf das Außenbecken und die Barfuß-Gastronomie – ein nahtloser Übergang von Innen- zu Außenbereich. \nErlebe auch die besonderen Wohlfühl-Bereiche der Therme: Im 36° warmen Sole-Becken mit Massagedrüsen kannst du Verspannungen lösen\, während die Sprudelschlange sanfte Bewegungen ins Wasser bringt und deine Muskulatur stimuliert. \nDer „Pavillon des Hörens“ bietet dir das entspannende Light & Sound-Becken\, in dem du dich von Klängen und Lichtern umhüllen lassen kannst. Im „Pavillon des Fühlens“ erwartet dich die mystische Dampfgrotte aus regionalem Schiefer mit tropischen Wasserfällen – eine Wohltat für alle Sinne. \nWarum unser Winter Wellness Erlebnis ideal für dich ist\nDie kalte Jahreszeit bringt oft mehr Belastungen mit sich\, als wir merken. Kälte\, Dunkelheit und der steigende Alltagsstress können Körper und Seele fordern. \nMit unserem Winter Wellness Erlebnis gönnst du dir eine vollständige Auszeit\, die deine Energiereserven auffüllt und dich mit wohltuender Wärme verwöhnt. \nDiese kleine Auszeit gibt dir die Möglichkeit\, dich körperlich und mental zu regenerieren und mit frischer Kraft und Gelassenheit in den Alltag zurückzukehren. \nUnser Geheimtipp\nWenn du es einrichten kannst\, empfehlen wir einen Besuch zwischen Montag und Donnerstag. Die Therme ist dann oft wunderbar ruhig\, und du kannst das Erlebnis noch intensiver genießen. \nMach dir und deinen Liebsten dieses Geschenk \nGönn dir diese Winter Auszeit für mehr Energie und innere Ruhe. \nNutze die Gelegenheit\, um dich selbst und deine Bedürfnisse in den Vordergrund zu stellen. Kehre erfrischt\, entspannt und gestärkt zurück in deinen Alltag. \nHier geht’s zur Buchung deines Winter-Wellness-Erlebnisses! \n\nDetails\n\n2 Übernachtungen inklusive vegetarisches Frühstück\nMineralwasser und frisches Obst bei Anreise\n1 Tageskarte Therme mit Wellnessdom und Sauna\nenergetische Körperbehandlung dazu buchbar\nDas Angebot ist je nach Verfügbarkeit vom 01.11. bis 30.04. buchbar.\nFlexibel stornierbar bis 48h vor der Anreise.\n\nKlicke hier\, um deine Teilnahme zu buchen →  \n  \nWenn du Fragen hast\, schreibe eine Mail an:   info@unsereins-hotel.de
URL:https://unsereins-hotel.de/angebot/winter-wellness-erlebnis/
CATEGORIES:Gesundheit,Zum bei sich ankommen,Zum Entspannen
ATTACH;FMTTYPE=image/jpeg:https://unsereins-hotel.de/wp-content/uploads/2024/11/shutterstock_sauna-2158336721-scaled.jpg
END:VEVENT
BEGIN:VEVENT
DTSTART;VALUE=DATE:20260312
DTEND;VALUE=DATE:20260316
DTSTAMP:20260421T170954
CREATED:20240727T111011Z
LAST-MODIFIED:20260120T224947Z
UID:10000024-1773273600-1773619199@unsereins-hotel.de
SUMMARY:# Innovationsschmiede
DESCRIPTION:Du hast eine Idee aber du weißt nicht wie es nun weitergehen kann ? \nDu willst ein Projekt starten\, voranbringen oder neu ausrichten? \nHast vielleicht auch schon eine Vision\, aber suchst noch Raum\, die Energie oder die richtigen Leute? \nDann bist du hier genau richtig. \nIn der Innocation Schmiede triffst du auf Menschen\, die wie du etwas bewegen wollen. Die gemeinsam Zukunft gestalten wollen. \nEgal\, ob du ein Projekt in die Welt bringen willst\, ein Startup gründen\, dein Unternehmen transformieren oder ein gemeinwohlorientiertes Vorhaben umsetzen möchtest\, hier bekommst du Unterstützung\, Impulse und Tools\, die dich wirklich weiterbringen. \nEin erstklassiges\, persönliches Businesscoaching. \nDenn die besten Ideen entwickeln sich mit echten Sparringspartnern\, Achtsamkeit und gemeinsames Wachsen. \nWir schaffen eine vertrauensvolle\, geschützte Atmosphäre\, in der du offen zeigen kannst\, was dich bewegt\, auch wenn es noch unfertig\, holprig oder unsicher ist. \n  \nWas dich erwartet\n\nDu arbeitest in einer kleinen Gruppe\nDu bringst deine Idee oder dein Projekt mit und wir schauen gemeinsam: Wo stehst du? Was blockiert? Was sind die nächsten Schritte?\nDu teilst deine Herausforderungen und profitierst vom kollektiven Wissen\, den Fragen und der Erfahrung der anderen\nGleichzeitig begleitest du die Projekte der anderen und lernst dabei mindestens genauso viel\nWir nutzen Methoden wie Design Thinking\, Art of Hosting\, Systemische Aufstellungen und Soulful Leadership\, um kreative Prozesse zu strukturieren und Klarheit zu schaffen\nMeditation und energetische Tools helfen dabei\, tief zu reflektieren\, Hindernisse zu lösen und Orientierung auf allen Ebenen zu gewinnen\nDie integrale Bewusstseinsarbeit verbindet deine berufliche Vision mit deiner persönlichen Entwicklung\nWir lachen\, zweifeln\, reflektieren und tragen einander durch Höhen und Tiefen\n\n  \nWorauf du dich verlassen kannst\n\nEine geschützte\, vertrauensvolle Arbeitsatmosphäre\nEchte Begegnung mit Menschen\, denen es um Inhalte geht\, nicht um Status\nStruktur \, Focus und konkrete nächste Schritte für dein Projekt\nIntensität\, Austausch\, Reflexion und das gute Gefühl\, nicht allein zu sein\n\n\n  \nDein Platz in der Innovationschmiede\nBist du interessiert? \nHast aber noch Fragen oder möchtest du dich anmelden? \nDann melde dich gerne bei uns \nkontakt@unsereins-hotel.de \n  \nFür Unternehmen:\nFür Gruppen bieten wir spezielle Konditionen an. Melde dich einfach bei uns per E-Mail unter \noffice@unsereins-hotel.de \n  \nDie Innovationsschmiede ist ein Gemeinschaftsprojekt von\nUnsereins \nund\nGesellschaftSEIN \nGesellschaftSEIN ist eine gemeinnützige Initiative\, die sich für mehr Menschlichkeit engagiert. \n  \nLass uns zusammen die Zukunft gestalten!\nWir freuen uns auf dich!
URL:https://unsereins-hotel.de/angebot/innovationschmiede/
LOCATION:Unsereins Hotel\, Mordlau 2\, Bad Steben\, 95138\, Germany
CATEGORIES:Innocation,Zum entdecken
ATTACH;FMTTYPE=image/jpeg:https://unsereins-hotel.de/wp-content/uploads/2024/07/workplace-1245776_1280.jpg
ORGANIZER;CN="Kun Ya Andrea Schmidt":MAILTO:kunya@unsereins-hotel.de
END:VEVENT
END:VCALENDAR