BEGIN:VCALENDAR
VERSION:2.0
PRODID:-//Unsereins Seminarhotel - ECPv6.15.20//NONSGML v1.0//EN
CALSCALE:GREGORIAN
METHOD:PUBLISH
X-ORIGINAL-URL:https://unsereins-hotel.de
X-WR-CALDESC:Veranstaltungen für Unsereins Seminarhotel
REFRESH-INTERVAL;VALUE=DURATION:PT1H
X-Robots-Tag:noindex
X-PUBLISHED-TTL:PT1H
BEGIN:VTIMEZONE
TZID:Europe/Berlin
BEGIN:DAYLIGHT
TZOFFSETFROM:+0100
TZOFFSETTO:+0200
TZNAME:CEST
DTSTART:20240331T010000
END:DAYLIGHT
BEGIN:STANDARD
TZOFFSETFROM:+0200
TZOFFSETTO:+0100
TZNAME:CET
DTSTART:20241027T010000
END:STANDARD
BEGIN:DAYLIGHT
TZOFFSETFROM:+0100
TZOFFSETTO:+0200
TZNAME:CEST
DTSTART:20250330T010000
END:DAYLIGHT
BEGIN:STANDARD
TZOFFSETFROM:+0200
TZOFFSETTO:+0100
TZNAME:CET
DTSTART:20251026T010000
END:STANDARD
BEGIN:DAYLIGHT
TZOFFSETFROM:+0100
TZOFFSETTO:+0200
TZNAME:CEST
DTSTART:20260329T010000
END:DAYLIGHT
BEGIN:STANDARD
TZOFFSETFROM:+0200
TZOFFSETTO:+0100
TZNAME:CET
DTSTART:20261025T010000
END:STANDARD
END:VTIMEZONE
BEGIN:VEVENT
DTSTART;TZID=Europe/Berlin:20250901T190000
DTEND;TZID=Europe/Berlin:20250901T220000
DTSTAMP:20260421T115653
CREATED:20250401T124713Z
LAST-MODIFIED:20250401T130341Z
UID:10000037-1756753200-1756764000@unsereins-hotel.de
SUMMARY:Mut zur Demut
DESCRIPTION:Entdecke\, wie die kleinen Dinge im Leben Großes bewirken können und handle in Weisheit. \n\n\nWas\, wenn du Klarheit statt Zweifel hättest? Vertrauen statt Kampf? Frieden statt Konflikte? Wenn du nicht mehr suchst\, sondern findest? Nicht mehr festhältst\, sondern am Fluss des Lebens teilnimmst?\n\n\n In diesem Online-Workshop erfährst du:\n\n> tiefgehende Reflexion\, die dich deutlich weiterbringt> tiefe Verbindung mit dir selbst> mehr Freiheit\, mehr Erfüllung\, mehr Echtheit\n\n\n\nDas Leben kann leicht sein. Bist du bereit\, es zuzulassen?\n\n\nDann nutze den Link und lass dich überraschen\, was alles geschieht\, nur weil du nicht mehr kämpfst.\nhttps://www.digistore24.com/product/595561\n\n\nIch freue mich auf dich!\n  \n 
URL:https://unsereins-hotel.de/angebot/mut-zur-demut/
LOCATION:Via Zoom
ATTACH;FMTTYPE=image/jpeg:https://unsereins-hotel.de/wp-content/uploads/2025/04/Blog_18_AndreaSaeule-Kopie.jpg
END:VEVENT
END:VCALENDAR