BEGIN:VCALENDAR
VERSION:2.0
PRODID:-//Unsereins Seminarhotel - ECPv6.15.20//NONSGML v1.0//EN
CALSCALE:GREGORIAN
METHOD:PUBLISH
X-ORIGINAL-URL:https://unsereins-hotel.de
X-WR-CALDESC:Veranstaltungen für Unsereins Seminarhotel
REFRESH-INTERVAL;VALUE=DURATION:PT1H
X-Robots-Tag:noindex
X-PUBLISHED-TTL:PT1H
BEGIN:VTIMEZONE
TZID:Europe/Berlin
BEGIN:DAYLIGHT
TZOFFSETFROM:+0100
TZOFFSETTO:+0200
TZNAME:CEST
DTSTART:20240331T010000
END:DAYLIGHT
BEGIN:STANDARD
TZOFFSETFROM:+0200
TZOFFSETTO:+0100
TZNAME:CET
DTSTART:20241027T010000
END:STANDARD
BEGIN:DAYLIGHT
TZOFFSETFROM:+0100
TZOFFSETTO:+0200
TZNAME:CEST
DTSTART:20250330T010000
END:DAYLIGHT
BEGIN:STANDARD
TZOFFSETFROM:+0200
TZOFFSETTO:+0100
TZNAME:CET
DTSTART:20251026T010000
END:STANDARD
BEGIN:DAYLIGHT
TZOFFSETFROM:+0100
TZOFFSETTO:+0200
TZNAME:CEST
DTSTART:20260329T010000
END:DAYLIGHT
BEGIN:STANDARD
TZOFFSETFROM:+0200
TZOFFSETTO:+0100
TZNAME:CET
DTSTART:20261025T010000
END:STANDARD
END:VTIMEZONE
BEGIN:VEVENT
DTSTART;TZID=Europe/Berlin:20250505T190000
DTEND;TZID=Europe/Berlin:20250505T220000
DTSTAMP:20260421T175634
CREATED:20250401T120817Z
LAST-MODIFIED:20250403T075641Z
UID:10000033-1746471600-1746482400@unsereins-hotel.de
SUMMARY:Wirklichkeit oder Illusion (Online)
DESCRIPTION:Durchblicke\, was echt ist\, und befreie dich von Selbsttäuschungen\, die dich in der Illusion gefangen halten.\n\n\nWas\, wenn das\, was du für „dein Leben“ hältst\, nur ein Ausschnitt ist?\nWas\, wenn viele deiner Gedanken\, Sorgen und Entscheidungen nicht aus deiner wahren Klarheit heraus entstehen – sondern aus einem inneren Konstrukt\, das du irgendwann übernommen hast\, ohne es je zu hinterfragen? \nDie meisten von uns leben in einer Welt\, die auf Bildern\, Geschichten und Erwartungen basiert – und kaum merken wir\, wie sehr wir uns darin verlieren.Wir glauben\, „wir müssten“\, „wir sollten“\, „wir dürften nicht“ – und dabei übersehen wir\, dass wir oft nicht die Wirklichkeit sehen\, sondern unsere Vorstellung davon. \n\n\nAn diesem Themenabend erforschen wir gemeinsam:\n✨ Was ist wirklich „echt“ und was ist eine innere Projektion?✨ Welche unbewussten Selbsttäuschungen halten dich gefangen?✨ Wie du Illusionen durchblickst\, ohne dich selbst zu verurteilen✨ Warum es nicht um „besser werden“ geht\, sondern um “wacher sein”✨ Wie du zur inneren Wahrheit findest\, die jenseits von Gedanken liegt \n\n\nWas du mitnimmst: \n> tiefe innere Klarheit\n> Ein neues Bewusstsein für das\, was dich lenkt und wie du dich davon befreist> Mut\, dich selbst wirklich zu sehen> Und vielleicht das Gefühl\, in der Wirklichkeit angekommen zu sein.\n\n\nDas Leben kann leicht sein. Bist du bereit\, es zuzulassen?\n\nDann freue ich mich auf dich. \n\nHier geht es zur Anmeldung:\n\n\n 
URL:https://unsereins-hotel.de/angebot/wirklichkeit-oder-illusion/
LOCATION:Via Zoom
CATEGORIES:Zum bei sich ankommen
ATTACH;FMTTYPE=image/jpeg:https://unsereins-hotel.de/wp-content/uploads/2025/04/Blog_02_Baum-Kopie.jpg
ORGANIZER;CN="Kun Ya Andrea Schmidt":MAILTO:kunya@unsereins-hotel.de
END:VEVENT
END:VCALENDAR